BEGIN:VCALENDAR
VERSION:2.0
PRODID:-//Tjörns Hembygdsförening - ECPv6.15.20//NONSGML v1.0//EN
CALSCALE:GREGORIAN
METHOD:PUBLISH
X-WR-CALNAME:Tjörns Hembygdsförening
X-ORIGINAL-URL:https://www.tjornshembygdsforening.se
X-WR-CALDESC:Händelser för Tjörns Hembygdsförening
REFRESH-INTERVAL;VALUE=DURATION:PT1H
X-Robots-Tag:noindex
X-PUBLISHED-TTL:PT1H
BEGIN:VTIMEZONE
TZID:Europe/Stockholm
BEGIN:DAYLIGHT
TZOFFSETFROM:+0100
TZOFFSETTO:+0200
TZNAME:CEST
DTSTART:20230326T010000
END:DAYLIGHT
BEGIN:STANDARD
TZOFFSETFROM:+0200
TZOFFSETTO:+0100
TZNAME:CET
DTSTART:20231029T010000
END:STANDARD
BEGIN:DAYLIGHT
TZOFFSETFROM:+0100
TZOFFSETTO:+0200
TZNAME:CEST
DTSTART:20240331T010000
END:DAYLIGHT
BEGIN:STANDARD
TZOFFSETFROM:+0200
TZOFFSETTO:+0100
TZNAME:CET
DTSTART:20241027T010000
END:STANDARD
BEGIN:DAYLIGHT
TZOFFSETFROM:+0100
TZOFFSETTO:+0200
TZNAME:CEST
DTSTART:20250330T010000
END:DAYLIGHT
BEGIN:STANDARD
TZOFFSETFROM:+0200
TZOFFSETTO:+0100
TZNAME:CET
DTSTART:20251026T010000
END:STANDARD
BEGIN:DAYLIGHT
TZOFFSETFROM:+0100
TZOFFSETTO:+0200
TZNAME:CEST
DTSTART:20260329T010000
END:DAYLIGHT
BEGIN:STANDARD
TZOFFSETFROM:+0200
TZOFFSETTO:+0100
TZNAME:CET
DTSTART:20261025T010000
END:STANDARD
BEGIN:DAYLIGHT
TZOFFSETFROM:+0100
TZOFFSETTO:+0200
TZNAME:CEST
DTSTART:20270328T010000
END:DAYLIGHT
BEGIN:STANDARD
TZOFFSETFROM:+0200
TZOFFSETTO:+0100
TZNAME:CET
DTSTART:20271031T010000
END:STANDARD
END:VTIMEZONE
BEGIN:VEVENT
DTSTART;TZID=Europe/Stockholm:20240908T110000
DTEND;TZID=Europe/Stockholm:20240908T180000
DTSTAMP:20260423T193107
CREATED:20240922T163114Z
LAST-MODIFIED:20240922T163114Z
UID:11594-1725793200-1725818400@www.tjornshembygdsforening.se
SUMMARY:Kulturarvsdagen - Extra öppet på Tjörns hembygdsmuseum
DESCRIPTION:Kulturarvsdagen är Riksantikvarieämbetets årliga temadag som skall bidra till att skapa förståelse\, intresse och engagemang för kulturarvet. \nBräcke Hembygdsgård firar detta den 8 september med öppet hus i alla byggnaderna. \nStart för vandring i kulturav\, 4 km vägar och stigar förbi olika kulturarv. \nVälkomna!
URL:https://www.tjornshembygdsforening.se/event/kulturarvsdagen-extra-oppet-pa-tjorns-hembygdsmuseum/
LOCATION:Tjörns hembygdsgård\, Bräckeliden 103\, Hjälteby\, 47272\, Sverige
END:VEVENT
BEGIN:VEVENT
DTSTART;TZID=Europe/Stockholm:20241013T160000
DTEND;TZID=Europe/Stockholm:20241013T173000
DTSTAMP:20260423T193107
CREATED:20241010T085651Z
LAST-MODIFIED:20241013T113852Z
UID:11697-1728835200-1728840600@www.tjornshembygdsforening.se
SUMMARY:Missbruk\, måttlighet och nykterhet
DESCRIPTION:Professor Anders Gustavsson från Orust visar bilder\noch föreläser på ett underhållande sätt om alkoholens\npåverkan i äldre tider. \nEntré 100 kr (Icke medl. 150 kr) Fika ingår! \nAnmäl till 073 360 52 48 eller ingalill.jansson@telia.com \nMycket välkomna! \n 
URL:https://www.tjornshembygdsforening.se/event/missbruk-mattlighet-och-nykterhet/
LOCATION:Tjörns hembygdsgård\, Bräckeliden 103\, Hjälteby\, 47272\, Sverige
CATEGORIES:Föreläsning
END:VEVENT
BEGIN:VEVENT
DTSTART;TZID=Europe/Stockholm:20241103T160000
DTEND;TZID=Europe/Stockholm:20241103T173000
DTSTAMP:20260423T193107
CREATED:20241010T100045Z
LAST-MODIFIED:20241016T093730Z
UID:11721-1730649600-1730655000@www.tjornshembygdsforening.se
SUMMARY:Bohus Stickning: Ett kreativt nätverk
DESCRIPTION:Textilvetare Isa Holmgren berättar och visar bilder om föreningen Bohus Stickning som bildades av dåvarande landshövdingefrun Emma Jacobsson. Bakgrunden till föreningen var att hjälpa fattiga kvinnor i\, framförallt stenhuggardistrikten\, till en inkomst. \nDe vackra stickade plaggen blev en världssuccé. \nIsa kommer också att berätta om sin forskning där hon intervjuat stickerskor på Tjörn. \nEntré 100 kr (Icke medl. 150 kr) Fika ingår!\nAnmäl till 073 360 52 48 eller ingalill.jansson@telia.com \nMycket välkomna! \n \n  \n 
URL:https://www.tjornshembygdsforening.se/event/bohus-stickning-ett-kreativt-natverk/
CATEGORIES:Föreläsning
END:VEVENT
BEGIN:VEVENT
DTSTART;TZID=Europe/Stockholm:20241117T160000
DTEND;TZID=Europe/Stockholm:20241117T163000
DTSTAMP:20260423T193107
CREATED:20241010T162714Z
LAST-MODIFIED:20241014T155036Z
UID:11739-1731859200-1731861000@www.tjornshembygdsforening.se
SUMMARY:Västerhavets hemligheter
DESCRIPTION:Undervattensfotograf Tobias Dahlin\, som\nockså filmat under vattnet i filmen Sveriges\nsaltaste kust\, visar sin nya film om livet\nunder ytan på svenska västkusten. \nEntré 100 kr (Icke medl. 50 kr) Fika ingår! \nAnmäl till 073 360 52 48 eller\ningalill.jansson@telia.com \nMycket välkomna! \n \n 
URL:https://www.tjornshembygdsforening.se/event/vasterhavets-hemligheter/
CATEGORIES:Film
ATTACH;FMTTYPE=image/jpeg:https://www.tjornshembygdsforening.se/wp-content/uploads/2024/10/R-3.jpg
END:VEVENT
BEGIN:VEVENT
DTSTART;TZID=Europe/Stockholm:20241215T160000
DTEND;TZID=Europe/Stockholm:20241215T173000
DTSTAMP:20260423T193107
CREATED:20241010T163921Z
LAST-MODIFIED:20241206T125152Z
UID:11757-1734278400-1734283800@www.tjornshembygdsforening.se
SUMMARY:Visor i jultid
DESCRIPTION:På grund av sjukdom är vi tyvärr tvungna att flytta fram julkonserten med Knut och Maria till den 15 december.\nGlöm inte att anmäla er på nytt! \nKnut och Maria Johannesen spelar och\nsjunger gamla och nya julsånger samt en och annan välkänd\nvisa. \nEntré 100 kr (Icke medl. 150 kr) Fika ingår! \nAnmäl till 073 360 52 48 eller ingalill.jansson@telia.com \nMycket välkomna! \n \n 
URL:https://www.tjornshembygdsforening.se/event/visor-i-jultid/
CATEGORIES:Musikkväll
ATTACH;FMTTYPE=image/jpeg:https://www.tjornshembygdsforening.se/wp-content/uploads/2024/10/km2.jpg
END:VEVENT
BEGIN:VEVENT
DTSTART;TZID=Europe/Stockholm:20250126T160000
DTEND;TZID=Europe/Stockholm:20250126T173000
DTSTAMP:20260423T193107
CREATED:20241010T164514Z
LAST-MODIFIED:20241016T092752Z
UID:11769-1737907200-1737912600@www.tjornshembygdsforening.se
SUMMARY:Höviks trädgårdar på Tjörn
DESCRIPTION:Wilhelm van Riemsdijk berättar till bilder hur allt startade\, hur\ndet såg ut innan området bebyggdes och om livet på\nfruktodlingen under 60-talet. \nEntré 100 kr (Icke medl. 150 kr) inklusive fika\nAnmäl till 073 360 52 48 eller ingalill.jansson@telia.com \nMycket välkomna! \n \n 
URL:https://www.tjornshembygdsforening.se/event/hoviks-tradgardar-pa-tjorn/
CATEGORIES:Föreläsning
ATTACH;FMTTYPE=image/jpeg:https://www.tjornshembygdsforening.se/wp-content/uploads/2024/02/IMG_3068-scaled-e1729070818321.jpg
END:VEVENT
BEGIN:VEVENT
DTSTART;TZID=Europe/Stockholm:20250209T160000
DTEND;TZID=Europe/Stockholm:20250209T173000
DTSTAMP:20260423T193107
CREATED:20250127T164441Z
LAST-MODIFIED:20250127T164441Z
UID:12344-1739116800-1739122200@www.tjornshembygdsforening.se
SUMMARY:En slingrande stig
DESCRIPTION:Petra Rodin berättar om sin bok som är den första delen i en trilogi om Margareta Huitfeldts uppväxt. \nEn  roman som bygger på biografisk grund. \nI samarbete med Sundsby vänförening. \nEntré inklusive fika 50 kr (100 kr icke medlemmar). \nAnmälan görs till 073 360 52 eller ingalill.jansson@gmail.com \nHjärtligt välkomna!
URL:https://www.tjornshembygdsforening.se/event/en-slingrande-stig/
CATEGORIES:Föreläsning
ATTACH;FMTTYPE=image/jpeg:https://www.tjornshembygdsforening.se/wp-content/uploads/2025/01/petra_omslag_foto-1.jpg
END:VEVENT
BEGIN:VEVENT
DTSTART;TZID=Europe/Stockholm:20250223T150000
DTEND;TZID=Europe/Stockholm:20250223T163000
DTSTAMP:20260423T193107
CREATED:20241228T100257Z
LAST-MODIFIED:20250211T090133Z
UID:12252-1740322800-1740328200@www.tjornshembygdsforening.se
SUMMARY:Retrostalgisk afton
DESCRIPTION:För anmälan: se text på affisch! \n  \n 
URL:https://www.tjornshembygdsforening.se/event/retrostalgisk-afton/
LOCATION:Tjörns hembygdsgård\, Bräckeliden 103\, Hjälteby\, 47272\, Sverige
CATEGORIES:Musikkväll
ATTACH;FMTTYPE=image/png:https://www.tjornshembygdsforening.se/wp-content/uploads/2024/12/unnamed-e1735379834698.png
END:VEVENT
BEGIN:VEVENT
DTSTART;TZID=Europe/Stockholm:20250315T160000
DTEND;TZID=Europe/Stockholm:20250315T180000
DTSTAMP:20260423T193107
CREATED:20250112T170438Z
LAST-MODIFIED:20250201T094756Z
UID:12285-1742054400-1742061600@www.tjornshembygdsforening.se
SUMMARY:Årsmöte Tjörns hembygdsförening 2025
DESCRIPTION:Kallelse till årsmöte 2025. \nLördagen den 15 mars på Tjörns hembygdsgård Bräcke kl. 16.00. \nStadgeenliga förhandlingar. \nKaffeservering inklusive underhållning av Mats Rutgersson\, dragspel. \nVälkomna!
URL:https://www.tjornshembygdsforening.se/event/arsmote-tjorns-hembygdsforening-2025/
CATEGORIES:Årsmöte
ATTACH;FMTTYPE=image/jpeg:https://www.tjornshembygdsforening.se/wp-content/uploads/2020/08/Välkomna-till-årsmöte.jpg
END:VEVENT
BEGIN:VEVENT
DTSTART;TZID=Europe/Stockholm:20250316T160000
DTEND;TZID=Europe/Stockholm:20250316T173000
DTSTAMP:20260423T193107
CREATED:20250125T164643Z
LAST-MODIFIED:20250211T090339Z
UID:12339-1742140800-1742146200@www.tjornshembygdsforening.se
SUMMARY:Sillens betydelse
DESCRIPTION:Sillens roll kan inte överskattas. Havets silver har mättat magar och genererat förmögenheter bortom vår fattningsförmåga. Genom historien har hon glänst och simmat men aldrig fått något riktigt erkännande. \nStefan Edman och Tomas Andersson visar bilder och berättar. \nEntré 200 kr inklusive fika för alla\,  oavsett medlem eller ej \nAnmälan görs till 073 360 52 48 eller ingalill.jansson@telia.com \nHjärtligt välkomna! \n 
URL:https://www.tjornshembygdsforening.se/event/sillens-betydelse/
CATEGORIES:Föreläsning
ATTACH;FMTTYPE=image/jpeg:https://www.tjornshembygdsforening.se/wp-content/uploads/2025/01/Sillplanch.jpg
END:VEVENT
BEGIN:VEVENT
DTSTART;TZID=Europe/Stockholm:20250406T160000
DTEND;TZID=Europe/Stockholm:20250406T173000
DTSTAMP:20260423T193107
CREATED:20250123T154246Z
LAST-MODIFIED:20250211T090457Z
UID:12329-1743955200-1743960600@www.tjornshembygdsforening.se
SUMMARY:Hembygdsforskaren Olaus Olsson på Bräcke
DESCRIPTION:Under 1920-talet lämnade hembygdsforskaren Olaus Olsson in den samling\, som kom att kallas Olaus Olssons visbok\, till Västsvenska Folkminnesarkivet i Göteborg. Denna söndag berättar Annika Nordström om Olaus arbete och samling. Lasse Peterson sjunger flera av de visor som Olaus tecknade upp under sina vandringar över hela Tjörn. \nEntré inklusive fika 100 kr (150 kr för icke-medlem). \nAnmälan görs till 073 360 52 48 eller ingalill.jansson@telia.com \nHjärtligt välkomna!
URL:https://www.tjornshembygdsforening.se/event/hembygdsforskaren-olaus-olsson-pa-bracke/
CATEGORIES:Föreläsning,Musikkväll
ATTACH;FMTTYPE=image/jpeg:https://www.tjornshembygdsforening.se/wp-content/uploads/2025/01/IMG_3200-scaled-e1737646613904.jpg
END:VEVENT
BEGIN:VEVENT
DTSTART;TZID=Europe/Stockholm:20250413T180000
DTEND;TZID=Europe/Stockholm:20250413T193000
DTSTAMP:20260423T193107
CREATED:20250106T150040Z
LAST-MODIFIED:20250211T090621Z
UID:12334-1744567200-1744572600@www.tjornshembygdsforening.se
SUMMARY:Vilka var Tjörns kvinnliga rösträttskämpar?
DESCRIPTION:År 1914 reste Elin Sundberg från Kyrkesund runt på Tjörn för att samla in namnunderskrifter för att kräva kvinnlig rösträtt. Men vilka var egentligen alla de kvinnor från Tjörn som vågade fatta pennan och skriva under listorna? Under tre år\, har kvinnogruppen Tjörns rösträttskvinnor\, studerat vilka livsöden som döljer sig bakom namnteckningarna. Denna kväll får ni höra den spännande berättelsen om dessa fantastiska kvinnor. \nOBSERVERA TIDEN KL: 18.00 \nEntré inklusive fika 100 kr ( icke medlem 150 kr). \nAnmälan till 073 360 52 48 eller till ingalill.jansson@telia.com \n 
URL:https://www.tjornshembygdsforening.se/event/vilka-var-tjorns-kvinnliga-rostrattskampar/
CATEGORIES:Föreläsning
ATTACH;FMTTYPE=image/png:https://www.tjornshembygdsforening.se/wp-content/uploads/2025/01/Samtals-Cafe-TJorns-Rostratt-Hemsida.png
END:VEVENT
BEGIN:VEVENT
DTSTART;TZID=Europe/Stockholm:20250430T193000
DTEND;TZID=Europe/Stockholm:20250430T203000
DTSTAMP:20260423T193107
CREATED:20250127T170658Z
LAST-MODIFIED:20250215T083032Z
UID:12354-1746041400-1746045000@www.tjornshembygdsforening.se
SUMMARY:Valborgsmässofirande
DESCRIPTION:Valla och Stenkyrkas kyrkokörer stämmer upp till sång denna valborgsmässoafton på Bräcke. Talet till våren hålls av vår kyrkoherde Christina Grenabo. \nFörsäljning av kaffe\, korv med bröd och våfflor. \nMycket välkomna! \n 
URL:https://www.tjornshembygdsforening.se/event/valborgsmassofirande-2/
CATEGORIES:Valborgsfirande
ATTACH;FMTTYPE=image/jpeg:https://www.tjornshembygdsforening.se/wp-content/uploads/2025/01/valborgsbild-till-2025-scaled.jpg
END:VEVENT
BEGIN:VEVENT
DTSTART;TZID=Europe/Stockholm:20250505T093000
DTEND;TZID=Europe/Stockholm:20250505T123000
DTSTAMP:20260423T193107
CREATED:20250127T172321Z
LAST-MODIFIED:20250127T172321Z
UID:12357-1746437400-1746448200@www.tjornshembygdsforening.se
SUMMARY:Städdag i museet
DESCRIPTION:Har ni lust att vara med och göra vårfint i museet? Det behöver dammas i hyllorna\, tvätta fönster eller städa i något av våra utrymmen. \nSom avslutning bjuder vi på en lättare lunch. \nMeddela Margareta Olofsson om du kan komma. \nGärna sms på telefon: 070 778 80 45 \nHoppas vi ses!
URL:https://www.tjornshembygdsforening.se/event/staddag-i-museet/
CATEGORIES:Städdag
ATTACH;FMTTYPE=image/jpeg:https://www.tjornshembygdsforening.se/wp-content/uploads/2018/06/Huvudbyggn-m-rosbuske_s.jpg
END:VEVENT
BEGIN:VEVENT
DTSTART;TZID=Europe/Stockholm:20250510T110000
DTEND;TZID=Europe/Stockholm:20250510T130000
DTSTAMP:20260423T193107
CREATED:20250127T173714Z
LAST-MODIFIED:20250429T163903Z
UID:12360-1746874800-1746882000@www.tjornshembygdsforening.se
SUMMARY:Växtmarknad 10.30 Kosläpp 11.15 Loppis hela tiden
DESCRIPTION:Som traditionen bjuder blir det denna lördag Kosläpp i samarbete med LRF\,  Växtmarknad med Tjörns trädgårdsförening\, Loppis med Tjörns hembygdsförening och Tjörns biodlarförening visar bigården. \nBlir du sugen på något att äta\, finns det möjlighet köpa korv med bröd och även kaffe med kaka. \nVi hoppas på vackert väder och glada kor! \nVi ses! \n \n  \n  \n  \n  \n  \n  \n  \n  \n  \n  \n  \n  \n 
URL:https://www.tjornshembygdsforening.se/event/koslapp-vaxtmarknad-loppis-m-m/
CATEGORIES:Besöksdag
ATTACH;FMTTYPE=image/jpeg:https://www.tjornshembygdsforening.se/wp-content/uploads/2019/05/IMG_7203_s.jpg
END:VEVENT
BEGIN:VEVENT
DTSTART;TZID=Europe/Stockholm:20250620T130000
DTEND;TZID=Europe/Stockholm:20250620T153000
DTSTAMP:20260423T193107
CREATED:20250201T095752Z
LAST-MODIFIED:20250201T095752Z
UID:12365-1750424400-1750433400@www.tjornshembygdsforening.se
SUMMARY:Midsommarfirande 2025
DESCRIPTION:Dags för årets midsommarfirande på Tjörns hembygdsgård\, Bräcke. \nTraditionellt firande som börjar med att vi klär och reser midsommarstången. Därefter dans\, lekar\, lotterier\, kaffeservering och folkdansuppvisning med Göteborgs folkdansvänner. \nEntré 40 kr\, barn under 12 år gratis
URL:https://www.tjornshembygdsforening.se/event/midsommarfirande-2025/
CATEGORIES:Besöksdag
ATTACH;FMTTYPE=image/jpeg:https://www.tjornshembygdsforening.se/wp-content/uploads/2025/01/IMG_1180-scaled.jpg
END:VEVENT
BEGIN:VEVENT
DTSTART;TZID=Europe/Stockholm:20250716T190000
DTEND;TZID=Europe/Stockholm:20250716T200000
DTSTAMP:20260423T193107
CREATED:20250410T081427Z
LAST-MODIFIED:20250412T083003Z
UID:12519-1752692400-1752696000@www.tjornshembygdsforening.se
SUMMARY:Sommarkonsert med Öbarna på Tjörns hembygdsgård
DESCRIPTION:Eva Jarnedal och Janne Magnarsson kommer tillsammans med Bernt Andersson tillbaka till Tjörn efter många års uppehåll.Det blir ett blandat program med Taube fårstås och egna visor både gamla och aldeles nya. Med sina stämningsfulla sånger och sin speciella västkustprofil har Öbarna en stor och trogen publik i hela landet. \nKaffeförsälning. \nLänk till anmälan finns här \n 
URL:https://www.tjornshembygdsforening.se/event/sommarkonsert-med-obarna-pa-tjorns-hembygdsgard/
LOCATION:Bräcke Hembygdsmuseum\, Bräckeliden 103\, Hjälteby\, 47172\, Sverige
CATEGORIES:Musikkväll
ATTACH;FMTTYPE=image/jpeg:https://www.tjornshembygdsforening.se/wp-content/uploads/2025/04/54874-Obarna-e1744272610491.jpeg
END:VEVENT
BEGIN:VEVENT
DTSTART;TZID=Europe/Stockholm:20250802T110000
DTEND;TZID=Europe/Stockholm:20250802T140000
DTSTAMP:20260423T193107
CREATED:20250128T073555Z
LAST-MODIFIED:20250128T073555Z
UID:12372-1754132400-1754143200@www.tjornshembygdsforening.se
SUMMARY:STORLOPPIS
DESCRIPTION:Har du ”loppor” att sälja har du möjlighet att göra detta lördagen den 2 augusti. Behöver du bord vid försäljningen kan du boka hos Margaretha för 100 kr. \nMargaretha 070 778 80 45 / margaretha.glashed@gamail.com \nVälkomna alla säljare och köpare! \n 
URL:https://www.tjornshembygdsforening.se/event/storloppis/
CATEGORIES:Loppis
ATTACH;FMTTYPE=image/jpeg:https://www.tjornshembygdsforening.se/wp-content/uploads/2025/01/20230506_120258-scaled-e1738049452773.jpg
END:VEVENT
BEGIN:VEVENT
DTSTART;TZID=Europe/Stockholm:20250803T150000
DTEND;TZID=Europe/Stockholm:20250803T180000
DTSTAMP:20260423T193107
CREATED:20250801T062229Z
LAST-MODIFIED:20250801T090619Z
UID:12543-1754233200-1754244000@www.tjornshembygdsforening.se
SUMMARY:Söndagsöppet på Bräcke
DESCRIPTION:Välkommen till Tjörns hembygdsgård som har öppet för visning av museet\, alla söndagar i augusti\, mellan kl. 15.00 till 18.00. \nÖvriga byggnader såsom Emils stuga\, Malenas ryggåsstuga\, skolhuset och Elinor Bartholdssons klädkollektion är också öppna för besök. \nInträde 50 kr/person inklusive fika (barn under 12 år gratis). \nVÄLKOMNA! \n 
URL:https://www.tjornshembygdsforening.se/event/12543/
END:VEVENT
BEGIN:VEVENT
DTSTART;TZID=Europe/Stockholm:20250806T110000
DTEND;TZID=Europe/Stockholm:20250806T130000
DTSTAMP:20260423T193107
CREATED:20250128T080355Z
LAST-MODIFIED:20250128T080513Z
UID:12376-1754478000-1754485200@www.tjornshembygdsforening.se
SUMMARY:Äldredag på hembygdsgården
DESCRIPTION:Denna dagen bjuder Tjörns hembygdsgård\, i samarbete med kommunens äldresomsorg\, på kaffe och underhållning på Bräcke. Affisch med ytterligare information kommer i god tid att sättas upp på kommunens äldreboenden och anslagstavlor. \nVälkomna!
URL:https://www.tjornshembygdsforening.se/event/aldredag-pa-hembygdsgarden-2/
CATEGORIES:Besöksdag
ATTACH;FMTTYPE=image/jpeg:https://www.tjornshembygdsforening.se/wp-content/uploads/2023/06/header-bild.jpg
END:VEVENT
BEGIN:VEVENT
DTSTART;TZID=Europe/Stockholm:20250810T150000
DTEND;TZID=Europe/Stockholm:20250810T180000
DTSTAMP:20260423T193107
CREATED:20250801T090041Z
LAST-MODIFIED:20250801T090041Z
UID:12545-1754838000-1754848800@www.tjornshembygdsforening.se
SUMMARY:Söndagsöppet på Bräcke
DESCRIPTION:Välkommen till Tjörns hembygdsgård som har öppet för visning av museet\, alla söndagar i augusti\, mellan kl. 15.00 till 18.00. Övriga byggnader såsom Emils stuga\, Malenas ryggåsstuga\, skolhuset och Elinor Bartholdssons klädkollektion är också öppna för besök. Inträde 50 kr/person inklusive fika (barn under 12 år gratis). VÄLKOMNA!
URL:https://www.tjornshembygdsforening.se/event/sondagsoppet-pa-bracke/
END:VEVENT
BEGIN:VEVENT
DTSTART;TZID=Europe/Stockholm:20250810T160000
DTEND;TZID=Europe/Stockholm:20250810T170000
DTSTAMP:20260423T193107
CREATED:20250128T082841Z
LAST-MODIFIED:20250805T112531Z
UID:12379-1754841600-1754845200@www.tjornshembygdsforening.se
SUMMARY:Friluftsgudstjänst på Bräcke kl.16
DESCRIPTION:I samarbete svenska kyrkan firar vi gudstjänst i det gröna med traditionellt kyrkkaffe. \nVälkomna!
URL:https://www.tjornshembygdsforening.se/event/friluftgudstjanst/
CATEGORIES:Friluftsgudstjänst
ATTACH;FMTTYPE=image/jpeg:https://www.tjornshembygdsforening.se/wp-content/uploads/2025/01/Kaffe-med-dopp.jpg
END:VEVENT
BEGIN:VEVENT
DTSTART;TZID=Europe/Stockholm:20250817T150000
DTEND;TZID=Europe/Stockholm:20250817T180000
DTSTAMP:20260423T193107
CREATED:20250801T091351Z
LAST-MODIFIED:20250801T091351Z
UID:12555-1755442800-1755453600@www.tjornshembygdsforening.se
SUMMARY:Söndagsöppet på Bräcke
DESCRIPTION:Välkommen till Tjörns hembygdsgård som har öppet för visning av museet\, alla söndagar i augusti\, mellan kl. 15.00 till 18.00. \nÖvriga byggnader såsom Emils stuga\, Malenas ryggåsstuga\, skolhuset och Elinor Bartholdssons klädkollektion är också öppna för besök. \nInträde 50 kr/person inklusive fika (barn under 12 år gratis). \nVÄLKOMNA!
URL:https://www.tjornshembygdsforening.se/event/sondagsoppet-pa-bracke-4/
END:VEVENT
BEGIN:VEVENT
DTSTART;TZID=Europe/Stockholm:20250823T140000
DTEND;TZID=Europe/Stockholm:20250823T170000
DTSTAMP:20260423T193107
CREATED:20250203T191414Z
LAST-MODIFIED:20250203T191811Z
UID:12393-1755957600-1755968400@www.tjornshembygdsforening.se
SUMMARY:Barnens dag 2025
DESCRIPTION:Denna dag innebär att alla barn\, stora som små\, är välkomna att pröva på olika aktiviteter så som det gjordes ”förr i tiden”. \nTvätta smutstvätt på tvättbräde\, baka bröd i Emils stuga\, bygga barkbåtar\, göra dockor är en del av det som alla barn kan pröva på. \nFika\, korv med bröd finns att köpa. \nGratis inträde \nMycket välkomna!
URL:https://www.tjornshembygdsforening.se/event/barnens-dag-pa-tjorns-hembygdsgard-bracke/
CATEGORIES:Besöksdag
ATTACH;FMTTYPE=image/png:https://www.tjornshembygdsforening.se/wp-content/uploads/2018/06/snapshot43_S.png
END:VEVENT
BEGIN:VEVENT
DTSTART;TZID=Europe/Stockholm:20250824T150000
DTEND;TZID=Europe/Stockholm:20250824T180000
DTSTAMP:20260423T193107
CREATED:20250801T090932Z
LAST-MODIFIED:20250801T091020Z
UID:12551-1756047600-1756058400@www.tjornshembygdsforening.se
SUMMARY:Söndagsöppet på Bräcke
DESCRIPTION:Välkommen till Tjörns hembygdsgård som har öppet för visning av museet\, alla söndagar i augusti\, mellan kl. 15.00 till 18.00. \nÖvriga byggnader såsom Emils stuga\, Malenas ryggåsstuga\, skolhuset och Elinor Bartholdssons klädkollektion är också öppna för besök. \nInträde 50 kr/person inklusive fika (barn under 12 år gratis). \nVÄLKOMNA!
URL:https://www.tjornshembygdsforening.se/event/sondagsoppet-pa-bracke-3/
END:VEVENT
BEGIN:VEVENT
DTSTART;TZID=Europe/Stockholm:20250831T150000
DTEND;TZID=Europe/Stockholm:20250831T180000
DTSTAMP:20260423T193107
CREATED:20250801T090238Z
LAST-MODIFIED:20250801T091116Z
UID:12547-1756652400-1756663200@www.tjornshembygdsforening.se
SUMMARY:Söndagsöppet på Bräcke
DESCRIPTION:Välkommen till Tjörns hembygdsgård som har öppet för visning av museet\, alla söndagar i augusti\, mellan kl. 15.00 till 18.00. \nÖvriga byggnader såsom Emils stuga\, Malenas ryggåsstuga\, skolhuset och Elinor Bartholdssons klädkollektion är också öppna för besök. \nInträde 50 kr/person inklusive fika (barn under 12 år gratis). \nVÄLKOMNA!
URL:https://www.tjornshembygdsforening.se/event/sondagsoppet-pa-bracke-2/
END:VEVENT
BEGIN:VEVENT
DTSTART;TZID=Europe/Stockholm:20250928T160000
DTEND;TZID=Europe/Stockholm:20250928T173000
DTSTAMP:20260423T193107
CREATED:20250911T092649Z
LAST-MODIFIED:20250911T094654Z
UID:12578-1759075200-1759080600@www.tjornshembygdsforening.se
SUMMARY:”PLASTEN DIN MORMOR GLÖMDE LIGGER KVAR OCH SKRÄPAR ÄN I DAG!"
DESCRIPTION:EXTRA MEDLEMSMÖTE kl. 16.00 \nSTRANDSTÄDARNA kl. 16.30 \nHans Jansson berättar om Strandstädarnas verksamhet. Föreningen som drivs ideellt\, arbetar för att städa upp\nmarint skräp från Bohusläns kust. \n \nAnmälan till ingalill.jansson@telia.com\neller 073-360 52 48 \nVÄLMOMNA!
URL:https://www.tjornshembygdsforening.se/event/plasten-din-mormor-glomde-ligger-kvar-och-skrapar-an-i-dag/
CATEGORIES:Föreläsning
ATTACH;FMTTYPE=image/jpeg:https://www.tjornshembygdsforening.se/wp-content/uploads/2025/09/IMG-20250813-WA0003-scaled-e1757583965491.jpg
END:VEVENT
BEGIN:VEVENT
DTSTART;TZID=Europe/Stockholm:20251012T160000
DTEND;TZID=Europe/Stockholm:20251012T173000
DTSTAMP:20260423T193107
CREATED:20250911T161946Z
LAST-MODIFIED:20251011T061415Z
UID:12587-1760284800-1760290200@www.tjornshembygdsforening.se
SUMMARY:O.B.S. INSTÄLLD PGA SJUKDOM
DESCRIPTION:FÖRELÄSNINGEN INSTÄLLD PGA SJUKDOM \nFortfarande görs fynd i landskapet som väcker nya frågor och öppnar för fler\nperspektiv. Följ med Johan Ling\, som ägnat sin forskargärning åt dessa frågor\,\npå en resa in i en sällsamt främmande värld – hällristningarnas värld! \nEntré 100 kr\, ickemedlem 150 kr. \nAnmälan till ingalill.jansson@telia.com eller 073-360 52 48 \nVÄLKOMNA!
URL:https://www.tjornshembygdsforening.se/event/hallristningarnas-varld/
CATEGORIES:Föreläsning
ATTACH;FMTTYPE=image/jpeg:https://www.tjornshembygdsforening.se/wp-content/uploads/2025/09/johan-ling-pris-vinnare.jpg
END:VEVENT
BEGIN:VEVENT
DTSTART;TZID=Europe/Stockholm:20251109T160000
DTEND;TZID=Europe/Stockholm:20251109T173000
DTSTAMP:20260423T193107
CREATED:20250915T122708Z
LAST-MODIFIED:20250915T122956Z
UID:12593-1762704000-1762709400@www.tjornshembygdsforening.se
SUMMARY:DJUPVIKS VARV
DESCRIPTION:Martina Lundqvist från Swede Ship Marine\, tidigare Djupviks Varv\,\nberättar vad varvet gör idag och om dess 130-åriga historia. \nJohan Olofsson spelar och sjunger! \nEntré 100 kr\, ickemedlem 150 kr. \nAnmälan till ingalill.jansson@telia.com eller\n073-360 52 48 \nVÄLKOMNA! \n 
URL:https://www.tjornshembygdsforening.se/event/djupviks-varv/
CATEGORIES:Föreläsning
ATTACH;FMTTYPE=image/jpeg:https://www.tjornshembygdsforening.se/wp-content/uploads/2025/09/Djupvik-e1757939365475.jpg
END:VEVENT
BEGIN:VEVENT
DTSTART;TZID=Europe/Stockholm:20260118T150000
DTEND;TZID=Europe/Stockholm:20260118T163000
DTSTAMP:20260423T193107
CREATED:20250915T130126Z
LAST-MODIFIED:20260103T210001Z
UID:12600-1768748400-1768753800@www.tjornshembygdsforening.se
SUMMARY:Så byggdes Tjörn: Hur blev det som det blev?
DESCRIPTION:  \nEtt föredrag med Lars Rydbom\, byggnadsantikvarie Bohusläns museum\, som med stöd av kartor\, foton och arkivmaterial beskriver hur Tjörn har förändrats under 100 år. Var bodde och arbetade man för hundra år sedan och hur är det idag? Hur har näringarna förändrats? Vilka är de stora stegen i den förändring som skett?. \nEntré 100 kr inkl. kaffe\, ej medlem Tjörns hembygdsförening 150 kr. \nAnmälan till Inga-Lill Jansson 073-360 52 48 eller ingalill.jansson@telia.com \nArrangeras i samarbete med Vuxenskolan Stenungsund. \nVÄLKOMNA!
URL:https://www.tjornshembygdsforening.se/event/hembygdshistorier/
CATEGORIES:Föreläsning
ATTACH;FMTTYPE=image/jpeg:https://www.tjornshembygdsforening.se/wp-content/uploads/2025/09/UMFA53100_1545.jpg
END:VEVENT
END:VCALENDAR